BEGIN:VCALENDAR
VERSION:2.0
PRODID:-//SYSTAG, System Technik AG - ECPv6.15.13.1//NONSGML v1.0//EN
CALSCALE:GREGORIAN
METHOD:PUBLISH
X-WR-CALNAME:SYSTAG, System Technik AG
X-ORIGINAL-URL:https://www.systag.ch
X-WR-CALDESC:Events for SYSTAG, System Technik AG
REFRESH-INTERVAL;VALUE=DURATION:PT1H
X-Robots-Tag:noindex
X-PUBLISHED-TTL:PT1H
BEGIN:VTIMEZONE
TZID:Europe/Zurich
BEGIN:DAYLIGHT
TZOFFSETFROM:+0100
TZOFFSETTO:+0200
TZNAME:CEST
DTSTART:20240331T010000
END:DAYLIGHT
BEGIN:STANDARD
TZOFFSETFROM:+0200
TZOFFSETTO:+0100
TZNAME:CET
DTSTART:20241027T010000
END:STANDARD
BEGIN:DAYLIGHT
TZOFFSETFROM:+0100
TZOFFSETTO:+0200
TZNAME:CEST
DTSTART:20250330T010000
END:DAYLIGHT
BEGIN:STANDARD
TZOFFSETFROM:+0200
TZOFFSETTO:+0100
TZNAME:CET
DTSTART:20251026T010000
END:STANDARD
BEGIN:DAYLIGHT
TZOFFSETFROM:+0100
TZOFFSETTO:+0200
TZNAME:CEST
DTSTART:20260329T010000
END:DAYLIGHT
BEGIN:STANDARD
TZOFFSETFROM:+0200
TZOFFSETTO:+0100
TZNAME:CET
DTSTART:20261025T010000
END:STANDARD
END:VTIMEZONE
BEGIN:VEVENT
DTSTART;VALUE=DATE:20250916
DTEND;VALUE=DATE:20250919
DTSTAMP:20260422T034651
CREATED:20250114T120522Z
LAST-MODIFIED:20250130T090443Z
UID:6958-1757980800-1758239999@www.systag.ch
SUMMARY:ILMAC 2025
DESCRIPTION:Discover the advantages of automated laboratory reactors – a concept that drives your success.\nOptimise your workflow and increase the efficiency of your laboratory. Discover FlexySys from SYSTAG\, the comprehensive software platform that allows you to seamlessly integrate all your synthesis reactors. From millilitre scale to kilo laboratory\, we offer you customised\, modular laboratory automation solutions from a single source. \nVisit us @ Hall / Stand (coming soon)
URL:https://www.systag.ch/event/ilmac/
LOCATION:Messe Basel\, Messeplatz 10\, Basel\, 4005\, Switzerland
ATTACH;FMTTYPE=image/jpeg:https://www.systag.ch/wp-content/uploads/2025/01/MCH_ILMAC_Logo_Rot_RGB.jpg
ORGANIZER;CN="MCH Messe Schweiz":MAILTO:info@ilmac.ch
END:VEVENT
BEGIN:VEVENT
DTSTART;VALUE=DATE:20251006
DTEND;VALUE=DATE:20251010
DTSTAMP:20260422T034651
CREATED:20250130T075928Z
LAST-MODIFIED:20250130T090005Z
UID:9226-1759708800-1760054399@www.systag.ch
SUMMARY:Battery Show
DESCRIPTION:See Over 1\,300 Top Suppliers From the Rapidly Growing Advanced Battery and Electric & Hybrid Vehicles Industry. \nSYSTAG is showcasing their product in cooperation with Buchiglas USA Corp.
URL:https://www.systag.ch/event/battery_show/
LOCATION:Huntington Place\, Detroit\, Detroit\, MI\, 48226\, United States
ATTACH;FMTTYPE=image/jpeg:https://www.systag.ch/wp-content/uploads/2025/01/Battery-show-logo_mod-1.jpg
END:VEVENT
BEGIN:VEVENT
DTSTART;VALUE=DATE:20251102
DTEND;VALUE=DATE:20251107
DTSTAMP:20260422T034651
CREATED:20250130T084300Z
LAST-MODIFIED:20250130T085650Z
UID:9243-1762041600-1762473599@www.systag.ch
SUMMARY:AIChE
DESCRIPTION:The AIChE Annual Meeting is the premier educational forum for chemical engineers interested in innovation and professional growth. Academic and industry experts will cover wide range of topics relevant to cutting-edge research\, new technologies\, and emerging growth areas in chemical engineering. \nSYSTAG is showcasing their product in cooperation with Buchiglas USA Corp.
URL:https://www.systag.ch/event/aiche/
LOCATION:Boston Marriott Copley Place\, Boston\, 110 Huntington Ave\, 02116\, United States
ATTACH;FMTTYPE=image/jpeg:https://www.systag.ch/wp-content/uploads/2025/01/Logo-Aiche-2.jpg
END:VEVENT
END:VCALENDAR