BEGIN:VCALENDAR
VERSION:2.0
PRODID:-//SYSTAG, System Technik AG - ECPv6.15.13.1//NONSGML v1.0//EN
CALSCALE:GREGORIAN
METHOD:PUBLISH
X-WR-CALNAME:SYSTAG, System Technik AG
X-ORIGINAL-URL:https://www.systag.ch
X-WR-CALDESC:Events for SYSTAG, System Technik AG
REFRESH-INTERVAL;VALUE=DURATION:PT1H
X-Robots-Tag:noindex
X-PUBLISHED-TTL:PT1H
BEGIN:VTIMEZONE
TZID:Europe/Zurich
BEGIN:DAYLIGHT
TZOFFSETFROM:+0100
TZOFFSETTO:+0200
TZNAME:CEST
DTSTART:20190331T010000
END:DAYLIGHT
BEGIN:STANDARD
TZOFFSETFROM:+0200
TZOFFSETTO:+0100
TZNAME:CET
DTSTART:20191027T010000
END:STANDARD
BEGIN:DAYLIGHT
TZOFFSETFROM:+0100
TZOFFSETTO:+0200
TZNAME:CEST
DTSTART:20200329T010000
END:DAYLIGHT
BEGIN:STANDARD
TZOFFSETFROM:+0200
TZOFFSETTO:+0100
TZNAME:CET
DTSTART:20201025T010000
END:STANDARD
BEGIN:DAYLIGHT
TZOFFSETFROM:+0100
TZOFFSETTO:+0200
TZNAME:CEST
DTSTART:20210328T010000
END:DAYLIGHT
BEGIN:STANDARD
TZOFFSETFROM:+0200
TZOFFSETTO:+0100
TZNAME:CET
DTSTART:20211031T010000
END:STANDARD
BEGIN:DAYLIGHT
TZOFFSETFROM:+0100
TZOFFSETTO:+0200
TZNAME:CEST
DTSTART:20220327T010000
END:DAYLIGHT
BEGIN:STANDARD
TZOFFSETFROM:+0200
TZOFFSETTO:+0100
TZNAME:CET
DTSTART:20221030T010000
END:STANDARD
BEGIN:DAYLIGHT
TZOFFSETFROM:+0100
TZOFFSETTO:+0200
TZNAME:CEST
DTSTART:20230326T010000
END:DAYLIGHT
BEGIN:STANDARD
TZOFFSETFROM:+0200
TZOFFSETTO:+0100
TZNAME:CET
DTSTART:20231029T010000
END:STANDARD
BEGIN:DAYLIGHT
TZOFFSETFROM:+0100
TZOFFSETTO:+0200
TZNAME:CEST
DTSTART:20240331T010000
END:DAYLIGHT
BEGIN:STANDARD
TZOFFSETFROM:+0200
TZOFFSETTO:+0100
TZNAME:CET
DTSTART:20241027T010000
END:STANDARD
BEGIN:DAYLIGHT
TZOFFSETFROM:+0100
TZOFFSETTO:+0200
TZNAME:CEST
DTSTART:20250330T010000
END:DAYLIGHT
BEGIN:STANDARD
TZOFFSETFROM:+0200
TZOFFSETTO:+0100
TZNAME:CET
DTSTART:20251026T010000
END:STANDARD
END:VTIMEZONE
BEGIN:VEVENT
DTSTART;TZID=Europe/Zurich:20241118T090000
DTEND;TZID=Europe/Zurich:20241119T170000
DTSTAMP:20260421T211112
CREATED:20240719T072845Z
LAST-MODIFIED:20240719T072848Z
UID:8954-1731920400-1732035600@www.systag.ch
SUMMARY:AUTOMA+
DESCRIPTION:PHARMACEUTICAL AUTOMATION AND DIGITALISATION CONGRESS 2024\nAUTOMA+ is a closed networking congress that brings together leaders and pioneers in the pharma sector and focuses on helping pharma professionals and companies achieve digital maturity. At the event\, experts from pharmaceutical companies\, CMOs/CDMOs/CROs\, APIs\, automation device manufacturers and service providers will deepen their insights and make valuable connections with industry peers to expand mutual growth and development.
URL:https://www.systag.ch/event/automa/
LOCATION:Mövenpick Hotel Zürich Regensdorf\, Im Zentrum 2\, Regensdorf\, Zürich\, 8105\, Schweiz
ATTACH;FMTTYPE=image/png:https://www.systag.ch/wp-content/uploads/2024/07/Automate-2.png
END:VEVENT
BEGIN:VEVENT
DTSTART;VALUE=DATE:20240904
DTEND;VALUE=DATE:20240905
DTSTAMP:20260421T211112
CREATED:20200829T151006Z
LAST-MODIFIED:20240124T150238Z
UID:6509-1725408000-1725494399@www.systag.ch
SUMMARY:LAB-SUPPLY Innsbruck
DESCRIPTION:Information about the event will follow
URL:https://www.systag.ch/event/lab-supply-innsbruck/
LOCATION:Congress Innsbruck\, Rennweg 3\, Innsbruck\, 6020\, Österreich
ATTACH;FMTTYPE=image/jpeg:https://www.systag.ch/wp-content/uploads/2020/02/Lab-Supply.jpg
END:VEVENT
BEGIN:VEVENT
DTSTART;VALUE=DATE:20240610
DTEND;VALUE=DATE:20240615
DTSTAMP:20260421T211112
CREATED:20200924T081232Z
LAST-MODIFIED:20240124T145820Z
UID:6673-1717977600-1718409599@www.systag.ch
SUMMARY:Achema 2024
DESCRIPTION:You can find us in the hall 12.0 / Booth no. D34
URL:https://www.systag.ch/event/achema/
LOCATION:Messe Frankfurt\, Ludwig-Erhard-Anlage 1\, Frankfurt am Main\, 60327\, Deutschland
ATTACH;FMTTYPE=image/png:https://www.systag.ch/wp-content/uploads/2022/05/ACHEMA-1.png
END:VEVENT
BEGIN:VEVENT
DTSTART;VALUE=DATE:20230921
DTEND;VALUE=DATE:20230922
DTSTAMP:20260421T211112
CREATED:20230717T114325Z
LAST-MODIFIED:20230717T114348Z
UID:8112-1695254400-1695340799@www.systag.ch
SUMMARY:Farmaforum 2023
DESCRIPTION:
URL:https://www.systag.ch/event/farmaforum-2023/
LOCATION:IFEMA – Pavilion 14 Madrid\, Spain\, Pavilion 14\, Madrid\, 28042\, Spanien
ATTACH;FMTTYPE=image/png:https://www.systag.ch/wp-content/uploads/2023/07/pharma-forum.png
END:VEVENT
BEGIN:VEVENT
DTSTART;VALUE=DATE:20230913
DTEND;VALUE=DATE:20230916
DTSTAMP:20260421T211112
CREATED:20221118T080313Z
LAST-MODIFIED:20230717T113505Z
UID:7527-1694563200-1694822399@www.systag.ch
SUMMARY:SCS Annual Meeting 2023\, Slowenien
DESCRIPTION:
URL:https://www.systag.ch/event/scs-annual-meeting-2023-slovenia/
LOCATION:Grand Hotel Bernardin Convetion Center \, Portoroz-potorose\, slovenia\, Obala 2\, Portorož\, 6320\, Slowenien
ATTACH;FMTTYPE=image/png:https://www.systag.ch/wp-content/uploads/2022/11/Slovenian-Chemical-Society.png
END:VEVENT
BEGIN:VEVENT
DTSTART;VALUE=DATE:20221109
DTEND;VALUE=DATE:20221110
DTSTAMP:20260421T211113
CREATED:20211101T131650Z
LAST-MODIFIED:20220510T123349Z
UID:7005-1667952000-1668038399@www.systag.ch
SUMMARY:LAB-SUPPLY Münster 2022
DESCRIPTION:
URL:https://www.systag.ch/event/lab-supply-muenster-2022/
LOCATION:Messe und Congress Centrum Halle Münsterland GmbH\, Albersloher Weg 32\, Münster\, 48155\, Deutschland
ATTACH;FMTTYPE=image/jpeg:https://www.systag.ch/wp-content/uploads/2020/02/Lab-Supply.jpg
END:VEVENT
BEGIN:VEVENT
DTSTART;VALUE=DATE:20220928
DTEND;VALUE=DATE:20220930
DTSTAMP:20260421T211113
CREATED:20211223T094655Z
LAST-MODIFIED:20220510T124030Z
UID:7048-1664323200-1664495999@www.systag.ch
SUMMARY:ILMAC Lausanne 2022
DESCRIPTION:
URL:https://www.systag.ch/event/ilmac-lausanne-2022/
LOCATION:Expo Beaulieu Lausanne\, Avenue Bergières 10\, Lausanne\, 1004\, Schweiz
ORGANIZER;CN="MCH Messe Schweiz":MAILTO:info@ilmac.ch
END:VEVENT
BEGIN:VEVENT
DTSTART;VALUE=DATE:20220927
DTEND;VALUE=DATE:20220930
DTSTAMP:20260421T211113
CREATED:20220718T143125Z
LAST-MODIFIED:20220718T143633Z
UID:7316-1664236800-1664495999@www.systag.ch
SUMMARY:WOTS Utrecht 2022
DESCRIPTION:represented by Suurmond BV in hall7/7E057 \nhttps://en.suurmond.com/ 
URL:https://www.systag.ch/event/wots-utrecht-2022/
LOCATION:Jaarbeurs Utrecht\, Jaarbeursplein\, Utrecht\, AL\, 3521\, Niederlande
ATTACH;FMTTYPE=image/png:https://www.systag.ch/wp-content/uploads/2022/07/WoTS2022-Logo.png
ORGANIZER;CN="WOTS Utrecht":MAILTO:info@wots.nl
END:VEVENT
BEGIN:VEVENT
DTSTART;VALUE=DATE:20220926
DTEND;VALUE=DATE:20220928
DTSTAMP:20260421T211113
CREATED:20200918T135831Z
LAST-MODIFIED:20220510T124230Z
UID:6651-1664150400-1664323199@www.systag.ch
SUMMARY:Lab Vision 2022
DESCRIPTION:Information about the event will follow
URL:https://www.systag.ch/event/lab-vision-2021/
LOCATION:La Roche AG\, Basel\, Basel\, Schweiz
ATTACH;FMTTYPE=image/jpeg:https://www.systag.ch/wp-content/uploads/2022/05/LAB-VISION.jpg
END:VEVENT
BEGIN:VEVENT
DTSTART;VALUE=DATE:20220817
DTEND;VALUE=DATE:20220818
DTSTAMP:20260421T211113
CREATED:20200918T134609Z
LAST-MODIFIED:20220510T123452Z
UID:6636-1660694400-1660780799@www.systag.ch
SUMMARY:LAB-SUPPLY Hamburg 2022
DESCRIPTION:Information about the event will follow
URL:https://www.systag.ch/event/lab-supply-hamburg-2022/
LOCATION:MesseHalle Hamburg-Schnelsen GmbH\, Modering 1a\, Hamburg\, 22457\, Deutschland
ATTACH;FMTTYPE=image/jpeg:https://www.systag.ch/wp-content/uploads/2020/02/Lab-Supply.jpg
END:VEVENT
BEGIN:VEVENT
DTSTART;VALUE=DATE:20220517
DTEND;VALUE=DATE:20220518
DTSTAMP:20260421T211113
CREATED:20200918T133936Z
LAST-MODIFIED:20220510T125558Z
UID:6612-1652745600-1652831999@www.systag.ch
SUMMARY:LAB-SUPPLY Berlin 2022
DESCRIPTION:Information about the event will follow
URL:https://www.systag.ch/event/lab-supply-berlin-2022/
LOCATION:Estrel Saal des ESTREL Convention Centers\, Sonnenallee 225\, Berlin\, 12057\, Deutschland
ATTACH;FMTTYPE=image/jpeg:https://www.systag.ch/wp-content/uploads/2020/02/Lab-Supply.jpg
END:VEVENT
BEGIN:VEVENT
DTSTART;VALUE=DATE:20200930
DTEND;VALUE=DATE:20201001
DTSTAMP:20260421T211113
CREATED:20200918T132836Z
LAST-MODIFIED:20200918T132839Z
UID:6605-1601424000-1601510399@www.systag.ch
SUMMARY:Lab-Supply Münster
DESCRIPTION:Information about the event will follow
URL:https://www.systag.ch/event/lab-supply-muenster/
LOCATION:Messe und Congress Centrum Halle Münsterland GmbH\, Albersloher Weg 32\, Münster\, 48155\, Deutschland
END:VEVENT
END:VCALENDAR