BEGIN:VCALENDAR
VERSION:2.0
PRODID:-//SYSTAG, System Technik AG - ECPv6.15.13.1//NONSGML v1.0//EN
CALSCALE:GREGORIAN
METHOD:PUBLISH
X-WR-CALNAME:SYSTAG, System Technik AG
X-ORIGINAL-URL:https://www.systag.ch
X-WR-CALDESC:Events for SYSTAG, System Technik AG
REFRESH-INTERVAL;VALUE=DURATION:PT1H
X-Robots-Tag:noindex
X-PUBLISHED-TTL:PT1H
BEGIN:VTIMEZONE
TZID:Europe/Zurich
BEGIN:DAYLIGHT
TZOFFSETFROM:+0100
TZOFFSETTO:+0200
TZNAME:CEST
DTSTART:20190331T010000
END:DAYLIGHT
BEGIN:STANDARD
TZOFFSETFROM:+0200
TZOFFSETTO:+0100
TZNAME:CET
DTSTART:20191027T010000
END:STANDARD
BEGIN:DAYLIGHT
TZOFFSETFROM:+0100
TZOFFSETTO:+0200
TZNAME:CEST
DTSTART:20200329T010000
END:DAYLIGHT
BEGIN:STANDARD
TZOFFSETFROM:+0200
TZOFFSETTO:+0100
TZNAME:CET
DTSTART:20201025T010000
END:STANDARD
BEGIN:DAYLIGHT
TZOFFSETFROM:+0100
TZOFFSETTO:+0200
TZNAME:CEST
DTSTART:20210328T010000
END:DAYLIGHT
BEGIN:STANDARD
TZOFFSETFROM:+0200
TZOFFSETTO:+0100
TZNAME:CET
DTSTART:20211031T010000
END:STANDARD
BEGIN:DAYLIGHT
TZOFFSETFROM:+0100
TZOFFSETTO:+0200
TZNAME:CEST
DTSTART:20220327T010000
END:DAYLIGHT
BEGIN:STANDARD
TZOFFSETFROM:+0200
TZOFFSETTO:+0100
TZNAME:CET
DTSTART:20221030T010000
END:STANDARD
BEGIN:DAYLIGHT
TZOFFSETFROM:+0100
TZOFFSETTO:+0200
TZNAME:CEST
DTSTART:20230326T010000
END:DAYLIGHT
BEGIN:STANDARD
TZOFFSETFROM:+0200
TZOFFSETTO:+0100
TZNAME:CET
DTSTART:20231029T010000
END:STANDARD
END:VTIMEZONE
BEGIN:VEVENT
DTSTART;VALUE=DATE:20220517
DTEND;VALUE=DATE:20220518
DTSTAMP:20260422T003527
CREATED:20200918T133936Z
LAST-MODIFIED:20220510T125558Z
UID:6612-1652745600-1652831999@www.systag.ch
SUMMARY:LAB-SUPPLY Berlin 2022
DESCRIPTION:Information about the event will follow
URL:https://www.systag.ch/event/lab-supply-berlin-2022/
LOCATION:Estrel Saal des ESTREL Convention Centers\, Sonnenallee 225\, Berlin\, 12057\, Deutschland
ATTACH;FMTTYPE=image/jpeg:https://www.systag.ch/wp-content/uploads/2020/02/Lab-Supply.jpg
END:VEVENT
BEGIN:VEVENT
DTSTART;VALUE=DATE:20200930
DTEND;VALUE=DATE:20201001
DTSTAMP:20260422T003527
CREATED:20200918T132836Z
LAST-MODIFIED:20200918T132839Z
UID:6605-1601424000-1601510399@www.systag.ch
SUMMARY:Lab-Supply Münster
DESCRIPTION:Information about the event will follow
URL:https://www.systag.ch/event/lab-supply-muenster/
LOCATION:Messe und Congress Centrum Halle Münsterland GmbH\, Albersloher Weg 32\, Münster\, 48155\, Deutschland
END:VEVENT
END:VCALENDAR