BEGIN:VCALENDAR
VERSION:2.0
PRODID:-//SYSTAG, System Technik AG - ECPv6.15.13.1//NONSGML v1.0//EN
CALSCALE:GREGORIAN
METHOD:PUBLISH
X-ORIGINAL-URL:https://www.systag.ch
X-WR-CALDESC:Events for SYSTAG, System Technik AG
REFRESH-INTERVAL;VALUE=DURATION:PT1H
X-Robots-Tag:noindex
X-PUBLISHED-TTL:PT1H
BEGIN:VTIMEZONE
TZID:Europe/Zurich
BEGIN:DAYLIGHT
TZOFFSETFROM:+0100
TZOFFSETTO:+0200
TZNAME:CEST
DTSTART:20230326T010000
END:DAYLIGHT
BEGIN:STANDARD
TZOFFSETFROM:+0200
TZOFFSETTO:+0100
TZNAME:CET
DTSTART:20231029T010000
END:STANDARD
BEGIN:DAYLIGHT
TZOFFSETFROM:+0100
TZOFFSETTO:+0200
TZNAME:CEST
DTSTART:20240331T010000
END:DAYLIGHT
BEGIN:STANDARD
TZOFFSETFROM:+0200
TZOFFSETTO:+0100
TZNAME:CET
DTSTART:20241027T010000
END:STANDARD
BEGIN:DAYLIGHT
TZOFFSETFROM:+0100
TZOFFSETTO:+0200
TZNAME:CEST
DTSTART:20250330T010000
END:DAYLIGHT
BEGIN:STANDARD
TZOFFSETFROM:+0200
TZOFFSETTO:+0100
TZNAME:CET
DTSTART:20251026T010000
END:STANDARD
END:VTIMEZONE
BEGIN:VEVENT
DTSTART;TZID=Europe/Zurich:20241118T090000
DTEND;TZID=Europe/Zurich:20241119T170000
DTSTAMP:20260421T123441
CREATED:20240719T072845Z
LAST-MODIFIED:20240719T072848Z
UID:8954-1731920400-1732035600@www.systag.ch
SUMMARY:AUTOMA+
DESCRIPTION:PHARMACEUTICAL AUTOMATION AND DIGITALISATION CONGRESS 2024\nAUTOMA+ is a closed networking congress that brings together leaders and pioneers in the pharma sector and focuses on helping pharma professionals and companies achieve digital maturity. At the event\, experts from pharmaceutical companies\, CMOs/CDMOs/CROs\, APIs\, automation device manufacturers and service providers will deepen their insights and make valuable connections with industry peers to expand mutual growth and development.
URL:https://www.systag.ch/event/automa/
LOCATION:Mövenpick Hotel Zürich Regensdorf\, Im Zentrum 2\, Regensdorf\, Zürich\, 8105\, Schweiz
ATTACH;FMTTYPE=image/png:https://www.systag.ch/wp-content/uploads/2024/07/Automate-2.png
END:VEVENT
END:VCALENDAR